Workbook

Sheet Information
A3: 1 | B3: If there are several companies to be migrated at the same time, use one file and fill in more information in the Control Report tab
B4: and change the formula in tab 2-6 column B and C.
A6: 2 | B6: In tab List fill in Responsible
A8: 3 | B8: In tab 1 Checkpoints fill in Responsible, Planned start and Planned finished on the activities that are relevant in this project.
A10: 4 | B10: In tab 2-6 fill in Responsible, Planned start and Planned finished if that are relevant in this project.
A12: 5 | B12: In tab Gantt column set filter to TRUE.

Sheet Control Report
B1: Control Report
B2: Company name: | C2: Company xxx | D2: Company xxx | E2: Company xxx | F2: Company xxx
B3: Company ID: | C3: xxx | D3: xxx | E3: xxx | F3: xxx
B4: System ID: | C4: xxx | D4: xxx | E4: xxx | F4: xxx
B5: Custom company name: | C5: xxx
B6: Planned go-live: | C6: 45992
B7: Project Manager: | C7: First and last name
C8: =C2 -> Company xxx
B10: Gate | G10: Status
B11: Project start | G11: =IF('1 Checkpoints'!G6="","",'1 Checkpoints'!G6) -> Not started
B12: Preparation status ok | G12: =IF('1 Checkpoints'!G10="","",'1 Checkpoints'!G10) -> Not started
B13: Perform migration of test company | G13: =IF('1 Checkpoints'!G13="","",'1 Checkpoints'!G13) -> Not started
B14: Test migration approval | G14: =IF('1 Checkpoints'!G14="","",'1 Checkpoints'!G14) -> Not started
B15: Perform migration of production/live company | G15: =IF('1 Checkpoints'!G16="","",'1 Checkpoints'!G16) -> Not started
B16: Project completion | G16: =IF('1 Checkpoints'!G21="","",'1 Checkpoints'!G21) -> Not started
B17: To do | C17: Number to do | D17: Finished | E17: Finished %
B18: 1 Checkpoints | C18: =COUNTIF(Data_Gantt!I2:I31,1) -> 0 | D18: =COUNTIF(Data_Gantt!J2:J31,1) -> 0 | E18: =IF(D18=0,"-",D18/C18) -> -
B19: 2 Custom Solutions | C19: =COUNTIF(Data_Gantt!I32:I61,1) -> 0 | D19: =COUNTIF(Data_Gantt!J32:J61,1) -> 0 | E19: =IF(D19=0,"-",D19/C19) -> -
B20: 3 Business Intelligence | C20: =COUNTIF(Data_Gantt!I62:I91,1) -> 0 | D20: =COUNTIF(Data_Gantt!J62:J91,1) -> 0 | E20: =IF(D20=0,"-",D20/C20) -> -
B21: 4 External Options | C21: =COUNTIF(Data_Gantt!I92:I121,1) -> 0 | D21: =COUNTIF(Data_Gantt!J92:J121,1) -> 0 | E21: =IF(D21=0,"-",D21/C21) -> -
B22: 5 External Adaptations | C22: =COUNTIF(Data_Gantt!I122:I151,1) -> 0 | D22: =COUNTIF(Data_Gantt!J122:J151,1) -> 0 | E22: =IF(D22=0,"-",D22/C22) -> -
B23: 6 Customized Reports & Documents | C23: =COUNTIF(Data_Gantt!I152:I181,1) -> 0 | D23: =COUNTIF(Data_Gantt!J152:J181,1) -> 0 | E23: =IF(D23=0,"-",D23/C23) -> -

Sheet Gantt
A1: Timeline start | B1: =TODAY()-7 -> 46293
A2: Days | B2: 120
A5: Source | B5: Company ID | C5: Company name | D5: Activity | E5: Responsible | F5: Start date | G5: End date | H5: Status | I5: Visa | J5: =$B$1+0 -> 46293 | K5: =$B$1+1 -> 46294 | L5: =$B$1+2 -> 46295 | M5: =$B$1+3 -> 46296 | N5: =$B$1+4 -> 46297 | O5: =$B$1+5 -> 46298 | P5: =$B$1+6 -> 46299 | Q5: =$B$1+7 -> 46300 | R5: =$B$1+8 -> 46301 | S5: =$B$1+9 -> 46302 | T5: =$B$1+10 -> 46303 | U5: =$B$1+11 -> 46304 | V5: =$B$1+12 -> 46305 | W5: =$B$1+13 -> 46306 | X5: =$B$1+14 -> 46307 | Y5: =$B$1+15 -> 46308 | Z5: =$B$1+16 -> 46309 | AA5: =$B$1+17 -> 46310 | AB5: =$B$1+18 -> 46311 | AC5: =$B$1+19 -> 46312 | AD5: =$B$1+20 -> 46313 | AE5: =$B$1+21 -> 46314 | AF5: =$B$1+22 -> 46315 | AG5: =$B$1+23 -> 46316 | AH5: =$B$1+24 -> 46317 | AI5: =$B$1+25 -> 46318 | AJ5: =$B$1+26 -> 46319 | AK5: =$B$1+27 -> 46320 | AL5: =$B$1+28 -> 46321 | AM5: =$B$1+29 -> 46322 | AN5: =$B$1+30 -> 46323 | AO5: =$B$1+31 -> 46324 | AP5: =$B$1+32 -> 46325 | AQ5: =$B$1+33 -> 46326 | AR5: =$B$1+34 -> 46327 | AS5: =$B$1+35 -> 46328 | AT5: =$B$1+36 -> 46329 | AU5: =$B$1+37 -> 46330 | AV5: =$B$1+38 -> 46331 | AW5: =$B$1+39 -> 46332 | AX5: =$B$1+40 -> 46333 | AY5: =$B$1+41 -> 46334 | AZ5: =$B$1+42 -> 46335 | BA5: =$B$1+43 -> 46336 | BB5: =$B$1+44 -> 46337 | BC5: =$B$1+45 -> 46338 | BD5: =$B$1+46 -> 46339 | BE5: =$B$1+47 -> 46340 | BF5: =$B$1+48 -> 46341 | BG5: =$B$1+49 -> 46342 | BH5: =$B$1+50 -> 46343 | BI5: =$B$1+51 -> 46344 | BJ5: =$B$1+52 -> 46345 | BK5: =$B$1+53 -> 46346 | BL5: =$B$1+54 -> 46347 | BM5: =$B$1+55 -> 46348 | BN5: =$B$1+56 -> 46349 | BO5: =$B$1+57 -> 46350 | BP5: =$B$1+58 -> 46351 | BQ5: =$B$1+59 -> 46352 | BR5: =$B$1+60 -> 46353 | BS5: =$B$1+61 -> 46354 | BT5: =$B$1+62 -> 46355 | BU5: =$B$1+63 -> 46356 | BV5: =$B$1+64 -> 46357 | BW5: =$B$1+65 -> 46358 | BX5: =$B$1+66 -> 46359 | BY5: =$B$1+67 -> 46360 | BZ5: =$B$1+68 -> 46361 | CA5: =$B$1+69 -> 46362 | CB5: =$B$1+70 -> 46363 | CC5: =$B$1+71 -> 46364 | CD5: =$B$1+72 -> 46365 | CE5: =$B$1+73 -> 46366 | CF5: =$B$1+74 -> 46367 | CG5: =$B$1+75 -> 46368 | CH5: =$B$1+76 -> 46369 | CI5: =$B$1+77 -> 46370 | CJ5: =$B$1+78 -> 46371 | CK5: =$B$1+79 -> 46372 | CL5: =$B$1+80 -> 46373 | CM5: =$B$1+81 -> 46374 | CN5: =$B$1+82 -> 46375 | CO5: =$B$1+83 -> 46376 | CP5: =$B$1+84 -> 46377 | CQ5: =$B$1+85 -> 46378 | CR5: =$B$1+86 -> 46379 | CS5: =$B$1+87 -> 46380 | CT5: =$B$1+88 -> 46381 | CU5: =$B$1+89 -> 46382 | CV5: =$B$1+90 -> 46383 | CW5: =$B$1+91 -> 46384 | CX5: =$B$1+92 -> 46385 | CY5: =$B$1+93 -> 46386 | CZ5: =$B$1+94 -> 46387 | DA5: =$B$1+95 -> 46388 | DB5: =$B$1+96 -> 46389 | DC5: =$B$1+97 -> 46390 | DD5: =$B$1+98 -> 46391 | DE5: =$B$1+99 -> 46392 | DF5: =$B$1+100 -> 46393 | DG5: =$B$1+101 -> 46394 | DH5: =$B$1+102 -> 46395 | DI5: =$B$1+103 -> 46396 | DJ5: =$B$1+104 -> 46397 | DK5: =$B$1+105 -> 46398 | DL5: =$B$1+106 -> 46399 | DM5: =$B$1+107 -> 46400 | DN5: =$B$1+108 -> 46401 | DO5: =$B$1+109 -> 46402 | DP5: =$B$1+110 -> 46403 | DQ5: =$B$1+111 -> 46404 | DR5: =$B$1+112 -> 46405 | DS5: =$B$1+113 -> 46406 | DT5: =$B$1+114 -> 46407 | DU5: =$B$1+115 -> 46408 | DV5: =$B$1+116 -> 46409 | DW5: =$B$1+117 -> 46410 | DX5: =$B$1+118 -> 46411 | DY5: =$B$1+119 -> 46412
A6: =Data_Gantt!A2 -> 1.01 | D6: =IF(OR(Data_Gantt!D2="",Data_Gantt!D2=0),"",Data_Gantt!D2) -> Schedule a project kick-off with relevant parties | E6: =IF(OR(Data_Gantt!E2="< NA >",Data_Gantt!E2=""),"",Data_Gantt!E2) | F6: =Data_Gantt!F2 -> 0 | G6: =Data_Gantt!G2 -> 0 | H6: =IF(D6="","",Data_Gantt!H2) -> Not started | I6: =IF(AND($D6<>"",$E6<>""),TRUE,FALSE) -> FALSE
A7: =Data_Gantt!A3 -> 1.02 | D7: =IF(OR(Data_Gantt!D3="",Data_Gantt!D3=0),"",Data_Gantt!D3) -> Start the program Monitor.PostgreSQL.Assistant | E7: =IF(OR(Data_Gantt!E3="< NA >",Data_Gantt!E3=""),"",Data_Gantt!E3) | F7: =Data_Gantt!F3 -> 0 | G7: =Data_Gantt!G3 -> 0 | H7: =IF(D7="","",Data_Gantt!H3) -> Not started | I7: =IF(AND($D7<>"",$E7<>""),TRUE,FALSE) -> FALSE
A8: =Data_Gantt!A4 -> 1.03 | D8: =IF(OR(Data_Gantt!D4="",Data_Gantt!D4=0),"",Data_Gantt!D4) -> Project start | E8: =IF(OR(Data_Gantt!E4="< NA >",Data_Gantt!E4=""),"",Data_Gantt!E4) | F8: =Data_Gantt!F4 -> 0 | G8: =Data_Gantt!G4 -> 0 | H8: =IF(D8="","",Data_Gantt!H4) -> Not started | I8: =IF(AND($D8<>"",$E8<>""),TRUE,FALSE) -> FALSE
A9: =Data_Gantt!A5 -> 1.04 | D9: =IF(OR(Data_Gantt!D5="",Data_Gantt!D5=0),"",Data_Gantt!D5) -> Review the PostgreSQL migration guide | E9: =IF(OR(Data_Gantt!E5="< NA >",Data_Gantt!E5=""),"",Data_Gantt!E5) | F9: =Data_Gantt!F5 -> 0 | G9: =Data_Gantt!G5 -> 0 | H9: =IF(D9="","",Data_Gantt!H5) -> Not started | I9: =IF(AND($D9<>"",$E9<>""),TRUE,FALSE) -> FALSE
A10: =Data_Gantt!A6 -> 1.05 | D10: =IF(OR(Data_Gantt!D6="",Data_Gantt!D6=0),"",Data_Gantt!D6) -> Ensure PostgreSQL is installed | E10: =IF(OR(Data_Gantt!E6="< NA >",Data_Gantt!E6=""),"",Data_Gantt!E6) | F10: =Data_Gantt!F6 -> 0 | G10: =Data_Gantt!G6 -> 0 | H10: =IF(D10="","",Data_Gantt!H6) -> Not started | I10: =IF(AND($D10<>"",$E10<>""),TRUE,FALSE) -> FALSE
A11: =Data_Gantt!A7 -> 1.06 | D11: =IF(OR(Data_Gantt!D7="",Data_Gantt!D7=0),"",Data_Gantt!D7) -> If Preparation status is not ok, proceed to tab 2-6 | E11: =IF(OR(Data_Gantt!E7="< NA >",Data_Gantt!E7=""),"",Data_Gantt!E7) | F11: =Data_Gantt!F7 -> 0 | G11: =Data_Gantt!G7 -> 0 | H11: =IF(D11="","",Data_Gantt!H7) -> Not started | I11: =IF(AND($D11<>"",$E11<>""),TRUE,FALSE) -> FALSE
A12: =Data_Gantt!A8 -> 1.07 | D12: =IF(OR(Data_Gantt!D8="",Data_Gantt!D8=0),"",Data_Gantt!D8) -> Preparation status ok | E12: =IF(OR(Data_Gantt!E8="< NA >",Data_Gantt!E8=""),"",Data_Gantt!E8) | F12: =Data_Gantt!F8 -> 0 | G12: =Data_Gantt!G8 -> 0 | H12: =IF(D12="","",Data_Gantt!H8) -> Not started | I12: =IF(AND($D12<>"",$E12<>""),TRUE,FALSE) -> FALSE
A13: =Data_Gantt!A9 -> 1.08 | D13: =IF(OR(Data_Gantt!D9="",Data_Gantt!D9=0),"",Data_Gantt!D9) -> Consider exporting BLOB data before migration | E13: =IF(OR(Data_Gantt!E9="< NA >",Data_Gantt!E9=""),"",Data_Gantt!E9) | F13: =Data_Gantt!F9 -> 0 | G13: =Data_Gantt!G9 -> 0 | H13: =IF(D13="","",Data_Gantt!H9) -> Not started | I13: =IF(AND($D13<>"",$E13<>""),TRUE,FALSE) -> FALSE
A14: =Data_Gantt!A10 -> 1.09 | D14: =IF(OR(Data_Gantt!D10="",Data_Gantt!D10=0),"",Data_Gantt!D10) -> Plan migration of test company | E14: =IF(OR(Data_Gantt!E10="< NA >",Data_Gantt!E10=""),"",Data_Gantt!E10) | F14: =Data_Gantt!F10 -> 0 | G14: =Data_Gantt!G10 -> 0 | H14: =IF(D14="","",Data_Gantt!H10) -> Not started | I14: =IF(AND($D14<>"",$E14<>""),TRUE,FALSE) -> FALSE
A15: =Data_Gantt!A11 -> 1.10 | D15: =IF(OR(Data_Gantt!D11="",Data_Gantt!D11=0),"",Data_Gantt!D11) -> Perform migration of test company | E15: =IF(OR(Data_Gantt!E11="< NA >",Data_Gantt!E11=""),"",Data_Gantt!E11) | F15: =Data_Gantt!F11 -> 0 | G15: =Data_Gantt!G11 -> 0 | H15: =IF(D15="","",Data_Gantt!H11) -> Not started | I15: =IF(AND($D15<>"",$E15<>""),TRUE,FALSE) -> FALSE
A16: =Data_Gantt!A12 -> 1.11 | D16: =IF(OR(Data_Gantt!D12="",Data_Gantt!D12=0),"",Data_Gantt!D12) -> Test migration approval | E16: =IF(OR(Data_Gantt!E12="< NA >",Data_Gantt!E12=""),"",Data_Gantt!E12) | F16: =Data_Gantt!F12 -> 0 | G16: =Data_Gantt!G12 -> 0 | H16: =IF(D16="","",Data_Gantt!H12) -> Not started | I16: =IF(AND($D16<>"",$E16<>""),TRUE,FALSE) -> FALSE
A17: =Data_Gantt!A13 -> 1.12 | D17: =IF(OR(Data_Gantt!D13="",Data_Gantt!D13=0),"",Data_Gantt!D13) -> Plan for migration of production/live company | E17: =IF(OR(Data_Gantt!E13="< NA >",Data_Gantt!E13=""),"",Data_Gantt!E13) | F17: =Data_Gantt!F13 -> 0 | G17: =Data_Gantt!G13 -> 0 | H17: =IF(D17="","",Data_Gantt!H13) -> Not started | I17: =IF(AND($D17<>"",$E17<>""),TRUE,FALSE) -> FALSE
... A35: =Data_Gantt!A31 -> 1.30 | D35: =IF(OR(Data_Gantt!D31="",Data_Gantt!D31=0),"",Data_Gantt!D31) | E35: =IF(OR(Data_Gantt!E31="< NA >",Data_Gantt!E31=""),"",Data_Gantt!E31) | F35: =Data_Gantt!F31 -> 0 | G35: =Data_Gantt!G31 -> 0 | H35: =IF(D35="","",Data_Gantt!H31) | I35: =IF(AND($D35<>"",$E35<>""),TRUE,FALSE) -> FALSE
A36: =Data_Gantt!A32 -> 2.01 | B36: =Data_Gantt!B32 -> xxx | C36: =Data_Gantt!C32 -> Company xxx | D36: =IF(OR(Data_Gantt!D32="",Data_Gantt!D32=0,Data_Gantt!D32="-"),"",Data_Gantt!D32) | E36: =IF(OR(Data_Gantt!E32="< NA >",Data_Gantt!E32=""),"",Data_Gantt!E32) | F36: =Data_Gantt!F32 -> 0 | G36: =Data_Gantt!G32 -> 0 | H36: =IF(D36="","",Data_Gantt!H32) | I36: =IF(AND($D36<>"",$E36<>""),TRUE,FALSE) -> FALSE
A37: =Data_Gantt!A33 -> 2.02 | B37: =Data_Gantt!B33 -> xxx | C37: =Data_Gantt!C33 -> Company xxx | D37: =IF(OR(Data_Gantt!D33="",Data_Gantt!D33=0,Data_Gantt!D33="-"),"",Data_Gantt!D33) | E37: =IF(OR(Data_Gantt!E33="< NA >",Data_Gantt!E33=""),"",Data_Gantt!E33) | F37: =Data_Gantt!F33 -> 0 | G37: =Data_Gantt!G33 -> 0 | H37: =IF(D37="","",Data_Gantt!H33) | I37: =IF(AND($D37<>"",$E37<>""),TRUE,FALSE) -> FALSE
A38: =Data_Gantt!A34 -> 2.03 | B38: =Data_Gantt!B34 -> xxx | C38: =Data_Gantt!C34 -> Company xxx | D38: =IF(OR(Data_Gantt!D34="",Data_Gantt!D34=0,Data_Gantt!D34="-"),"",Data_Gantt!D34) | E38: =IF(OR(Data_Gantt!E34="< NA >",Data_Gantt!E34=""),"",Data_Gantt!E34) | F38: =Data_Gantt!F34 -> 0 | G38: =Data_Gantt!G34 -> 0 | H38: =IF(D38="","",Data_Gantt!H34) | I38: =IF(AND($D38<>"",$E38<>""),TRUE,FALSE) -> FALSE
A39: =Data_Gantt!A35 -> 2.04 | B39: =Data_Gantt!B35 -> xxx | C39: =Data_Gantt!C35 -> Company xxx | D39: =IF(OR(Data_Gantt!D35="",Data_Gantt!D35=0,Data_Gantt!D35="-"),"",Data_Gantt!D35) | E39: =IF(OR(Data_Gantt!E35="< NA >",Data_Gantt!E35=""),"",Data_Gantt!E35) | F39: =Data_Gantt!F35 -> 0 | G39: =Data_Gantt!G35 -> 0 | H39: =IF(D39="","",Data_Gantt!H35) | I39: =IF(AND($D39<>"",$E39<>""),TRUE,FALSE) -> FALSE
A40: =Data_Gantt!A36 -> 2.05 | B40: =Data_Gantt!B36 -> xxx | C40: =Data_Gantt!C36 -> Company xxx | D40: =IF(OR(Data_Gantt!D36="",Data_Gantt!D36=0,Data_Gantt!D36="-"),"",Data_Gantt!D36) | E40: =IF(OR(Data_Gantt!E36="< NA >",Data_Gantt!E36=""),"",Data_Gantt!E36) | F40: =Data_Gantt!F36 -> 0 | G40: =Data_Gantt!G36 -> 0 | H40: =IF(D40="","",Data_Gantt!H36) | I40: =IF(AND($D40<>"",$E40<>""),TRUE,FALSE) -> FALSE
A41: =Data_Gantt!A37 -> 2.06 | B41: =Data_Gantt!B37 -> xxx | C41: =Data_Gantt!C37 -> Company xxx | D41: =IF(OR(Data_Gantt!D37="",Data_Gantt!D37=0,Data_Gantt!D37="-"),"",Data_Gantt!D37) | E41: =IF(OR(Data_Gantt!E37="< NA >",Data_Gantt!E37=""),"",Data_Gantt!E37) | F41: =Data_Gantt!F37 -> 0 | G41: =Data_Gantt!G37 -> 0 | H41: =IF(D41="","",Data_Gantt!H37) | I41: =IF(AND($D41<>"",$E41<>""),TRUE,FALSE) -> FALSE
A42: =Data_Gantt!A38 -> 2.07 | B42: =Data_Gantt!B38 -> xxx | C42: =Data_Gantt!C38 -> Company xxx | D42: =IF(OR(Data_Gantt!D38="",Data_Gantt!D38=0,Data_Gantt!D38="-"),"",Data_Gantt!D38) | E42: =IF(OR(Data_Gantt!E38="< NA >",Data_Gantt!E38=""),"",Data_Gantt!E38) | F42: =Data_Gantt!F38 -> 0 | G42: =Data_Gantt!G38 -> 0 | H42: =IF(D42="","",Data_Gantt!H38) | I42: =IF(AND($D42<>"",$E42<>""),TRUE,FALSE) -> FALSE
A43: =Data_Gantt!A39 -> 2.08 | B43: =Data_Gantt!B39 -> xxx | C43: =Data_Gantt!C39 -> Company xxx | D43: =IF(OR(Data_Gantt!D39="",Data_Gantt!D39=0,Data_Gantt!D39="-"),"",Data_Gantt!D39) | E43: =IF(OR(Data_Gantt!E39="< NA >",Data_Gantt!E39=""),"",Data_Gantt!E39) | F43: =Data_Gantt!F39 -> 0 | G43: =Data_Gantt!G39 -> 0 | H43: =IF(D43="","",Data_Gantt!H39) | I43: =IF(AND($D43<>"",$E43<>""),TRUE,FALSE) -> FALSE
A44: =Data_Gantt!A40 -> 2.09 | B44: =Data_Gantt!B40 -> xxx | C44: =Data_Gantt!C40 -> Company xxx | D44: =IF(OR(Data_Gantt!D40="",Data_Gantt!D40=0,Data_Gantt!D40="-"),"",Data_Gantt!D40) | E44: =IF(OR(Data_Gantt!E40="< NA >",Data_Gantt!E40=""),"",Data_Gantt!E40) | F44: =Data_Gantt!F40 -> 0 | G44: =Data_Gantt!G40 -> 0 | H44: =IF(D44="","",Data_Gantt!H40) | I44: =IF(AND($D44<>"",$E44<>""),TRUE,FALSE) -> FALSE
A45: =Data_Gantt!A41 -> 2.10 | B45: =Data_Gantt!B41 -> xxx | C45: =Data_Gantt!C41 -> Company xxx | D45: =IF(OR(Data_Gantt!D41="",Data_Gantt!D41=0,Data_Gantt!D41="-"),"",Data_Gantt!D41) | E45: =IF(OR(Data_Gantt!E41="< NA >",Data_Gantt!E41=""),"",Data_Gantt!E41) | F45: =Data_Gantt!F41 -> 0 | G45: =Data_Gantt!G41 -> 0 | H45: =IF(D45="","",Data_Gantt!H41) | I45: =IF(AND($D45<>"",$E45<>""),TRUE,FALSE) -> FALSE
A46: =Data_Gantt!A42 -> 2.11 | B46: =Data_Gantt!B42 -> xxx | C46: =Data_Gantt!C42 -> Company xxx | D46: =IF(OR(Data_Gantt!D42="",Data_Gantt!D42=0,Data_Gantt!D42="-"),"",Data_Gantt!D42) | E46: =IF(OR(Data_Gantt!E42="< NA >",Data_Gantt!E42=""),"",Data_Gantt!E42) | F46: =Data_Gantt!F42 -> 0 | G46: =Data_Gantt!G42 -> 0 | H46: =IF(D46="","",Data_Gantt!H42) | I46: =IF(AND($D46<>"",$E46<>""),TRUE,FALSE) -> FALSE
A47: =Data_Gantt!A43 -> 2.12 | B47: =Data_Gantt!B43 -> xxx | C47: =Data_Gantt!C43 -> Company xxx | D47: =IF(OR(Data_Gantt!D43="",Data_Gantt!D43=0,Data_Gantt!D43="-"),"",Data_Gantt!D43) | E47: =IF(OR(Data_Gantt!E43="< NA >",Data_Gantt!E43=""),"",Data_Gantt!E43) | F47: =Data_Gantt!F43 -> 0 | G47: =Data_Gantt!G43 -> 0 | H47: =IF(D47="","",Data_Gantt!H43) | I47: =IF(AND($D47<>"",$E47<>""),TRUE,FALSE) -> FALSE
... A125: =Data_Gantt!A121 -> 4.30 | B125: =Data_Gantt!B121 -> xxx | C125: =Data_Gantt!C121 -> Company xxx | D125: =IF(OR(Data_Gantt!D121="",Data_Gantt!D121=0,Data_Gantt!D121="-"),"",Data_Gantt!D121) | E125: =IF(OR(Data_Gantt!E121="< NA >",Data_Gantt!E121=""),"",Data_Gantt!E121) | F125: =Data_Gantt!F121 -> 0 | G125: =Data_Gantt!G121 -> 0 | H125: =IF(D125="","",Data_Gantt!H121) | I125: =IF(AND($D125<>"",$E125<>""),TRUE,FALSE) -> FALSE
A126: =Data_Gantt!A122 -> 5.01 | B126: ='5 External Adaptations'!B3 -> xxx | C126: ='5 External Adaptations'!C3 -> Company xxx | D126: =IF(OR(Data_Gantt!D122="",Data_Gantt!D122=0,Data_Gantt!D122="-"),"",Data_Gantt!D122) | E126: =IF(OR(Data_Gantt!E122="< NA >",Data_Gantt!E122=""),"",Data_Gantt!E122) | F126: =Data_Gantt!F122 -> 0 | G126: =Data_Gantt!G122 -> 0 | H126: =IF(D126="","",Data_Gantt!H122) | I126: =IF(AND($D126<>"",$E126<>""),TRUE,FALSE) -> FALSE
A127: =Data_Gantt!A123 -> 5.02 | B127: ='5 External Adaptations'!B4 -> xxx | C127: ='5 External Adaptations'!C4 -> Company xxx | D127: =IF(OR(Data_Gantt!D123="",Data_Gantt!D123=0,Data_Gantt!D123="-"),"",Data_Gantt!D123) | E127: =IF(OR(Data_Gantt!E123="< NA >",Data_Gantt!E123=""),"",Data_Gantt!E123) | F127: =Data_Gantt!F123 -> 0 | G127: =Data_Gantt!G123 -> 0 | H127: =IF(D127="","",Data_Gantt!H123) | I127: =IF(AND($D127<>"",$E127<>""),TRUE,FALSE) -> FALSE
A128: =Data_Gantt!A124 -> 5.03 | B128: ='5 External Adaptations'!B5 -> xxx | C128: ='5 External Adaptations'!C5 -> Company xxx | D128: =IF(OR(Data_Gantt!D124="",Data_Gantt!D124=0,Data_Gantt!D124="-"),"",Data_Gantt!D124) | E128: =IF(OR(Data_Gantt!E124="< NA >",Data_Gantt!E124=""),"",Data_Gantt!E124) | F128: =Data_Gantt!F124 -> 0 | G128: =Data_Gantt!G124 -> 0 | H128: =IF(D128="","",Data_Gantt!H124) | I128: =IF(AND($D128<>"",$E128<>""),TRUE,FALSE) -> FALSE
A129: =Data_Gantt!A125 -> 5.04 | B129: ='5 External Adaptations'!B6 -> xxx | C129: ='5 External Adaptations'!C6 -> Company xxx | D129: =IF(OR(Data_Gantt!D125="",Data_Gantt!D125=0,Data_Gantt!D125="-"),"",Data_Gantt!D125) | E129: =IF(OR(Data_Gantt!E125="< NA >",Data_Gantt!E125=""),"",Data_Gantt!E125) | F129: =Data_Gantt!F125 -> 0 | G129: =Data_Gantt!G125 -> 0 | H129: =IF(D129="","",Data_Gantt!H125) | I129: =IF(AND($D129<>"",$E129<>""),TRUE,FALSE) -> FALSE
A130: =Data_Gantt!A126 -> 5.05 | B130: ='5 External Adaptations'!B7 -> xxx | C130: ='5 External Adaptations'!C7 -> Company xxx | D130: =IF(OR(Data_Gantt!D126="",Data_Gantt!D126=0,Data_Gantt!D126="-"),"",Data_Gantt!D126) | E130: =IF(OR(Data_Gantt!E126="< NA >",Data_Gantt!E126=""),"",Data_Gantt!E126) | F130: =Data_Gantt!F126 -> 0 | G130: =Data_Gantt!G126 -> 0 | H130: =IF(D130="","",Data_Gantt!H126) | I130: =IF(AND($D130<>"",$E130<>""),TRUE,FALSE) -> FALSE
A131: =Data_Gantt!A127 -> 5.06 | B131: ='5 External Adaptations'!B8 -> xxx | C131: ='5 External Adaptations'!C8 -> Company xxx | D131: =IF(OR(Data_Gantt!D127="",Data_Gantt!D127=0,Data_Gantt!D127="-"),"",Data_Gantt!D127) | E131: =IF(OR(Data_Gantt!E127="< NA >",Data_Gantt!E127=""),"",Data_Gantt!E127) | F131: =Data_Gantt!F127 -> 0 | G131: =Data_Gantt!G127 -> 0 | H131: =IF(D131="","",Data_Gantt!H127) | I131: =IF(AND($D131<>"",$E131<>""),TRUE,FALSE) -> FALSE
A132: =Data_Gantt!A128 -> 5.07 | B132: ='5 External Adaptations'!B9 -> xxx | C132: ='5 External Adaptations'!C9 -> Company xxx | D132: =IF(OR(Data_Gantt!D128="",Data_Gantt!D128=0,Data_Gantt!D128="-"),"",Data_Gantt!D128) | E132: =IF(OR(Data_Gantt!E128="< NA >",Data_Gantt!E128=""),"",Data_Gantt!E128) | F132: =Data_Gantt!F128 -> 0 | G132: =Data_Gantt!G128 -> 0 | H132: =IF(D132="","",Data_Gantt!H128) | I132: =IF(AND($D132<>"",$E132<>""),TRUE,FALSE) -> FALSE
A133: =Data_Gantt!A129 -> 5.08 | B133: ='5 External Adaptations'!B10 -> xxx | C133: ='5 External Adaptations'!C10 -> Company xxx | D133: =IF(OR(Data_Gantt!D129="",Data_Gantt!D129=0,Data_Gantt!D129="-"),"",Data_Gantt!D129) | E133: =IF(OR(Data_Gantt!E129="< NA >",Data_Gantt!E129=""),"",Data_Gantt!E129) | F133: =Data_Gantt!F129 -> 0 | G133: =Data_Gantt!G129 -> 0 | H133: =IF(D133="","",Data_Gantt!H129) | I133: =IF(AND($D133<>"",$E133<>""),TRUE,FALSE) -> FALSE
A134: =Data_Gantt!A130 -> 5.09 | B134: ='5 External Adaptations'!B11 -> xxx | C134: ='5 External Adaptations'!C11 -> Company xxx | D134: =IF(OR(Data_Gantt!D130="",Data_Gantt!D130=0,Data_Gantt!D130="-"),"",Data_Gantt!D130) | E134: =IF(OR(Data_Gantt!E130="< NA >",Data_Gantt!E130=""),"",Data_Gantt!E130) | F134: =Data_Gantt!F130 -> 0 | G134: =Data_Gantt!G130 -> 0 | H134: =IF(D134="","",Data_Gantt!H130) | I134: =IF(AND($D134<>"",$E134<>""),TRUE,FALSE) -> FALSE
A135: =Data_Gantt!A131 -> 5.10 | B135: ='5 External Adaptations'!B12 -> xxx | C135: ='5 External Adaptations'!C12 -> Company xxx | D135: =IF(OR(Data_Gantt!D131="",Data_Gantt!D131=0,Data_Gantt!D131="-"),"",Data_Gantt!D131) | E135: =IF(OR(Data_Gantt!E131="< NA >",Data_Gantt!E131=""),"",Data_Gantt!E131) | F135: =Data_Gantt!F131 -> 0 | G135: =Data_Gantt!G131 -> 0 | H135: =IF(D135="","",Data_Gantt!H131) | I135: =IF(AND($D135<>"",$E135<>""),TRUE,FALSE) -> FALSE
A136: =Data_Gantt!A132 -> 5.11 | B136: ='5 External Adaptations'!B13 -> xxx | C136: ='5 External Adaptations'!C13 -> Company xxx | D136: =IF(OR(Data_Gantt!D132="",Data_Gantt!D132=0,Data_Gantt!D132="-"),"",Data_Gantt!D132) | E136: =IF(OR(Data_Gantt!E132="< NA >",Data_Gantt!E132=""),"",Data_Gantt!E132) | F136: =Data_Gantt!F132 -> 0 | G136: =Data_Gantt!G132 -> 0 | H136: =IF(D136="","",Data_Gantt!H132) | I136: =IF(AND($D136<>"",$E136<>""),TRUE,FALSE) -> FALSE
...

Sheet Dashboard
A1: Project Dashboard
D2: Status | E2: Number | F2: Light
A3: Total number of activities | B3: =COUNTIF(Gantt!I6:I185,"SANT") -> 0 | D3: Finished | E3: =COUNTIF(Gantt!H6:H185,"Finished") -> 0
A4: Average progress | B4: =IFERROR(AVERAGEIF(Gantt!I6:I185,"SANT",Gantt!#REF!),0) -> 0 | D4: In progress | E4: =COUNTIF(Gantt!H6:H185,"In progress") -> 0
D5: Risk | E5: =COUNTIF(Gantt!H6:H185,"Risk") -> 0
D6: Investigation | E6: =COUNTIF(Gantt!H6:H185,"Investigation") -> 0
D7: Delayed | E7: =COUNTIF(Gantt!H6:H185,"Delayed") -> 0
D8: Not started | E8: =COUNTIF(Gantt!H6:H185,"Not started") -> 18

Sheet 1 Checkpoints
B1: Checkpoints
A2: Pos. | B2: Activity | C2: Documentation/Instructions | D2: Responsible | E2: Planned start | F2: Planned finished | G2: Status | H2: Date ready | I2: =SUM(I3:I47) -> #REF! | J2: =SUM(J3:J47) -> #REF!
I3: =IF(#REF!="Ja",1,0) -> #REF! | J3: =IF(AND(I3=1,G3=#REF!),1,0) -> #REF!
A4: 1.01 | B4: Schedule a project kick-off with relevant parties | D4: < NA > | G4: Not started
A5: 1.02 | B5: Start the program Monitor.PostgreSQL.Assistant | C5: This is to be prepared for the project start | D5: < NA > | G5: Not started | I5: =IF(#REF!="Ja",1,0) -> #REF! | J5: =IF(AND(I5=1,G5=#REF!),1,0) -> #REF!
A6: 1.03 | B6: Project start | D6: < NA > | G6: Not started
A7: 1.04 | B7: Review the PostgreSQL migration guide | C7: https://help.monitorerp.com/postgresql/Content/Topics/Overview.htm | D7: < NA > | G7: Not started | I7: =IF(#REF!="Ja",1,0) -> #REF! | J7: =IF(AND(I7=1,G7=#REF!),1,0) -> #REF!
A8: 1.05 | B8: Ensure PostgreSQL is installed | D8: < NA > | G8: Not started | I8: =IF(#REF!="Ja",1,0) -> #REF! | J8: =IF(AND(I8=1,G8=#REF!),1,0) -> #REF!
A9: 1.06 | B9: If Preparation status is not ok, proceed to tab 2-6 | C9: In Monitor.PostgreSQL.Assistant | D9: < NA > | G9: Not started | I9: =IF(#REF!="Ja",1,0) -> #REF! | J9: =IF(AND(I9=1,G9=#REF!),1,0) -> #REF!
A10: 1.07 | B10: Preparation status ok | C10: In Monitor.PostgreSQL.Assistant | D10: < NA > | G10: Not started
A11: 1.08 | B11: Consider exporting BLOB data before migration | C11: https://help.monitorerp.com/SE-MONITOR_G5/en-us/Content/Topics/GeneralRegisters/SystemMaintenance/DatabaseAdministration/bChangeBLOBStorageLocation.htm | D11: < NA > | G11: Not started | I11: =IF(#REF!="Ja",1,0) -> #REF! | J11: =IF(AND(I11=1,G11=#REF!),1,0) -> #REF!
A12: 1.09 | B12: Plan migration of test company | C12: Note that Monitor ERP will be unavailable during the migration | D12: < NA > | G12: Not started | I12: =IF(#REF!="Ja",1,0) -> #REF! | J12: =IF(AND(I12=1,G12=#REF!),1,0) -> #REF!
A13: 1.10 | B13: Perform migration of test company | C13: Note that Monitor ERP will be unavailable during the migration | D13: < NA > | G13: Not started | I13: =IF(#REF!="Ja",1,0) -> #REF! | J13: =IF(AND(I13=1,G13=#REF!),1,0) -> #REF!
A14: 1.11 | B14: Test migration approval | D14: < NA > | G14: Not started
A15: 1.12 | B15: Plan for migration of production/live company | C15: Note that Monitor ERP will be unavailable during the migration | D15: < NA > | G15: Not started | I15: =IF(#REF!="Ja",1,0) -> #REF! | J15: =IF(AND(I15=1,G15=#REF!),1,0) -> #REF!
A16: 1.13 | B16: Perform migration of production/live company | C16: Note that Monitor ERP will be unavailable during the migration | D16: < NA > | G16: Not started
A17: 1.14 | B17: Set up backup and verify that it works | C17: Complete this activity via the Installation Manager | D17: < NA > | G17: Not started | I17: =IF(#REF!="Ja",1,0) -> #REF! | J17: =IF(AND(I17=1,G17=#REF!),1,0) -> #REF!
A18: 1.15 | B18: Adjust scheduling for migrated test companies (if necessary) | C18: Complete this activity via the Installation Manager | D18: < NA > | G18: Not started | I18: =IF(#REF!="Ja",1,0) -> #REF! | J18: =IF(AND(I18=1,G18=#REF!),1,0) -> #REF!
A19: 1.16 | B19: Set up new test company/companies if necessary | C19: Complete this activity via the Installation Manager | D19: < NA > | G19: Not started | I19: =IF(#REF!="Ja",1,0) -> #REF! | J19: =IF(AND(I19=1,G19=#REF!),1,0) -> #REF!
A20: 1.17 | B20: Clean up SQL Anywhere databases | C20: This frees up disk space | D20: < NA > | G20: Not started | I20: =IF(#REF!="Ja",1,0) -> #REF! | J20: =IF(AND(I20=1,G20=#REF!),1,0) -> #REF!
A21: 1.18 | B21: Project completion | D21: < NA > | G21: Not started | I21: =IF(#REF!="Ja",1,0) -> #REF! | J21: =IF(AND(I21=1,G21=#REF!),1,0) -> #REF!
A22: 1.19 | D22: < NA > | I22: =IF(#REF!="Ja",1,0) -> #REF! | J22: =IF(AND(I22=1,G22=#REF!),1,0) -> #REF!
A23: 1.20 | D23: < NA > | I23: =IF(#REF!="Ja",1,0) -> #REF! | J23: =IF(AND(I23=1,G23=#REF!),1,0) -> #REF!
A24: 1.21 | D24: < NA > | I24: =IF(#REF!="Ja",1,0) -> #REF! | J24: =IF(AND(I24=1,G24=#REF!),1,0) -> #REF!
A25: 1.22 | D25: < NA > | I25: =IF(#REF!="Ja",1,0) -> #REF! | J25: =IF(AND(I25=1,G25=#REF!),1,0) -> #REF!
A26: 1.23 | D26: < NA > | I26: =IF(#REF!="Ja",1,0) -> #REF! | J26: =IF(AND(I26=1,G26=#REF!),1,0) -> #REF!
A27: 1.24 | D27: < NA > | I27: =IF(#REF!="Ja",1,0) -> #REF! | J27: =IF(AND(I27=1,G27=#REF!),1,0) -> #REF!
A28: 1.25 | D28: < NA > | I28: =IF(#REF!="Ja",1,0) -> #REF! | J28: =IF(AND(I28=1,G28=#REF!),1,0) -> #REF!
A29: 1.26 | D29: < NA > | I29: =IF(#REF!="Ja",1,0) -> #REF! | J29: =IF(AND(I29=1,G29=#REF!),1,0) -> #REF!
A30: 1.27 | D30: < NA > | I30: =IF(#REF!="Ja",1,0) -> #REF! | J30: =IF(AND(I30=1,G30=#REF!),1,0) -> #REF!
A31: 1.28 | D31: < NA > | I31: =IF(#REF!="Ja",1,0) -> #REF! | J31: =IF(AND(I31=1,G31=#REF!),1,0) -> #REF!
A32: 1.29 | D32: < NA > | I32: =IF(#REF!="Ja",1,0) -> #REF! | J32: =IF(AND(I32=1,G32=#REF!),1,0) -> #REF!
A33: 1.30 | D33: < NA > | I33: =IF(#REF!="Ja",1,0) -> #REF! | J33: =IF(AND(I33=1,G33=#REF!),1,0) -> #REF!

Sheet 2 Custom solutions
B1: Custom Solutions
A2: Pos | B2: Company ID | C2: Company name | D2: Adaption name | E2: SQL Anywhere code | F2: PostgreSQL code | G2: Responsible | H2: Planned start | I2: Planned finished | J2: Test OK | K2: Date ready | L2: =SUM(L3:L12) -> #REF! | M2: =SUM(M3:M43) -> #REF! | N2: Comments
A3: 2.01 | B3: ='Control Report'!$C$3 -> xxx | C3: ='Control Report'!$C$2 -> Company xxx | G3: < NA > | J3: Not started | L3: =IF(#REF!="Ja",1,0) -> #REF! | M3: =IF(AND(L3=1,J3=#REF!),1,0) -> #REF!
A4: 2.02 | B4: ='Control Report'!$C$3 -> xxx | C4: ='Control Report'!$C$2 -> Company xxx | G4: < NA > | J4: Not started | L4: =IF(#REF!="Ja",1,0) -> #REF! | M4: =IF(AND(L4=1,J4=#REF!),1,0) -> #REF!
A5: 2.03 | B5: ='Control Report'!$C$3 -> xxx | C5: ='Control Report'!$C$2 -> Company xxx | G5: < NA > | J5: Not started | L5: =IF(#REF!="Ja",1,0) -> #REF! | M5: =IF(AND(L5=1,J5=#REF!),1,0) -> #REF!
A6: 2.04 | B6: ='Control Report'!$C$3 -> xxx | C6: ='Control Report'!$C$2 -> Company xxx | G6: < NA > | J6: Not started | L6: =IF(#REF!="Ja",1,0) -> #REF! | M6: =IF(AND(L6=1,J6=#REF!),1,0) -> #REF!
A7: 2.05 | B7: ='Control Report'!$C$3 -> xxx | C7: ='Control Report'!$C$2 -> Company xxx | G7: < NA > | J7: Not started | L7: =IF(#REF!="Ja",1,0) -> #REF! | M7: =IF(AND(L7=1,J7=#REF!),1,0) -> #REF!
A8: 2.06 | B8: ='Control Report'!$C$3 -> xxx | C8: ='Control Report'!$C$2 -> Company xxx | G8: < NA > | J8: Not started | L8: =IF(#REF!="Ja",1,0) -> #REF! | M8: =IF(AND(L8=1,J8=#REF!),1,0) -> #REF!
A9: 2.07 | B9: ='Control Report'!$C$3 -> xxx | C9: ='Control Report'!$C$2 -> Company xxx | G9: < NA > | J9: Not started | L9: =IF(#REF!="Ja",1,0) -> #REF! | M9: =IF(AND(L9=1,J9=#REF!),1,0) -> #REF!
A10: 2.08 | B10: ='Control Report'!$C$3 -> xxx | C10: ='Control Report'!$C$2 -> Company xxx | G10: < NA > | J10: Not started | L10: =IF(#REF!="Ja",1,0) -> #REF! | M10: =IF(AND(L10=1,J10=#REF!),1,0) -> #REF!
A11: 2.09 | B11: ='Control Report'!$C$3 -> xxx | C11: ='Control Report'!$C$2 -> Company xxx | G11: < NA > | J11: Not started | L11: =IF(#REF!="Ja",1,0) -> #REF! | M11: =IF(AND(L11=1,J11=#REF!),1,0) -> #REF!
A12: 2.10 | B12: ='Control Report'!$C$3 -> xxx | C12: ='Control Report'!$C$2 -> Company xxx | G12: < NA > | J12: Not started | L12: =IF(#REF!="Ja",1,0) -> #REF! | M12: =IF(AND(L12=1,J12=#REF!),1,0) -> #REF!
A13: 2.11 | B13: ='Control Report'!$C$3 -> xxx | C13: ='Control Report'!$C$2 -> Company xxx | G13: < NA > | J13: Not started | L13: =IF(#REF!="Ja",1,0) -> #REF! | M13: =IF(AND(L13=1,J13=#REF!),1,0) -> #REF!
A14: 2.12 | B14: ='Control Report'!$C$3 -> xxx | C14: ='Control Report'!$C$2 -> Company xxx | G14: < NA > | J14: Not started | L14: =IF(#REF!="Ja",1,0) -> #REF! | M14: =IF(AND(L14=1,J14=#REF!),1,0) -> #REF!
... A32: 2.30 | B32: ='Control Report'!$C$3 -> xxx | C32: ='Control Report'!$C$2 -> Company xxx | G32: < NA > | J32: Not started | L32: =IF(#REF!="Ja",1,0) -> #REF! | M32: =IF(AND(L32=1,J32=#REF!),1,0) -> #REF!

Sheet 3 Business Intelligence
B1: Business Inteligence
A2: Pos | B2: Company ID | C2: Company name | D2: Vy | E2: SQL Anywhere code | F2: PostgreSQL code | G2: Responsible | H2: Planned start | I2: Planned finished | J2: Test OK | K2: Date ready | L2: =SUM(L3:L27) -> #REF! | M2: =SUM(M3:M27) -> #REF! | N2: Comments
A3: 3.01 | B3: ='Control Report'!$C$3 -> xxx | C3: ='Control Report'!$C$2 -> Company xxx | G3: < NA > | J3: Not started | L3: =IF(#REF!="Ja",1,0) -> #REF! | M3: =IF(AND(L3=1,J3=#REF!),1,0) -> #REF!
A4: 3.02 | B4: ='Control Report'!$C$3 -> xxx | C4: ='Control Report'!$C$2 -> Company xxx | G4: < NA > | J4: Not started | L4: =IF(#REF!="Ja",1,0) -> #REF! | M4: =IF(AND(L4=1,J4=#REF!),1,0) -> #REF!
A5: 3.03 | B5: ='Control Report'!$C$3 -> xxx | C5: ='Control Report'!$C$2 -> Company xxx | G5: < NA > | J5: Not started | L5: =IF(#REF!="Ja",1,0) -> #REF! | M5: =IF(AND(L5=1,J5=#REF!),1,0) -> #REF!
A6: 3.04 | B6: ='Control Report'!$C$3 -> xxx | C6: ='Control Report'!$C$2 -> Company xxx | G6: < NA > | J6: Not started | L6: =IF(#REF!="Ja",1,0) -> #REF! | M6: =IF(AND(L6=1,J6=#REF!),1,0) -> #REF!
A7: 3.05 | B7: ='Control Report'!$C$3 -> xxx | C7: ='Control Report'!$C$2 -> Company xxx | G7: < NA > | J7: Not started | L7: =IF(#REF!="Ja",1,0) -> #REF! | M7: =IF(AND(L7=1,J7=#REF!),1,0) -> #REF!
A8: 3.06 | B8: ='Control Report'!$C$3 -> xxx | C8: ='Control Report'!$C$2 -> Company xxx | G8: < NA > | J8: Not started | L8: =IF(#REF!="Ja",1,0) -> #REF! | M8: =IF(AND(L8=1,J8=#REF!),1,0) -> #REF!
A9: 3.07 | B9: ='Control Report'!$C$3 -> xxx | C9: ='Control Report'!$C$2 -> Company xxx | G9: < NA > | J9: Not started | L9: =IF(#REF!="Ja",1,0) -> #REF! | M9: =IF(AND(L9=1,J9=#REF!),1,0) -> #REF!
A10: 3.08 | B10: ='Control Report'!$C$3 -> xxx | C10: ='Control Report'!$C$2 -> Company xxx | G10: < NA > | J10: Not started | L10: =IF(#REF!="Ja",1,0) -> #REF! | M10: =IF(AND(L10=1,J10=#REF!),1,0) -> #REF!
A11: 3.09 | B11: ='Control Report'!$C$3 -> xxx | C11: ='Control Report'!$C$2 -> Company xxx | G11: < NA > | J11: Not started
A12: 3.10 | B12: ='Control Report'!$C$3 -> xxx | C12: ='Control Report'!$C$2 -> Company xxx | G12: < NA > | J12: Not started
A13: 3.11 | B13: ='Control Report'!$C$3 -> xxx | C13: ='Control Report'!$C$2 -> Company xxx | G13: < NA > | J13: Not started
A14: 3.12 | B14: ='Control Report'!$C$3 -> xxx | C14: ='Control Report'!$C$2 -> Company xxx | G14: < NA > | J14: Not started
A15: 3.13 | B15: ='Control Report'!$C$3 -> xxx | C15: ='Control Report'!$C$2 -> Company xxx | G15: < NA > | J15: Not started
A16: 3.14 | B16: ='Control Report'!$C$3 -> xxx | C16: ='Control Report'!$C$2 -> Company xxx | G16: < NA > | J16: Not started
A17: 3.15 | B17: ='Control Report'!$C$3 -> xxx | C17: ='Control Report'!$C$2 -> Company xxx | G17: < NA > | J17: Not started
A18: 3.16 | B18: ='Control Report'!$C$3 -> xxx | C18: ='Control Report'!$C$2 -> Company xxx | G18: < NA > | J18: Not started
A19: 3.17 | B19: ='Control Report'!$C$3 -> xxx | C19: ='Control Report'!$C$2 -> Company xxx | G19: < NA > | J19: Not started
A20: 3.18 | B20: ='Control Report'!$C$3 -> xxx | C20: ='Control Report'!$C$2 -> Company xxx | G20: < NA > | J20: Not started
A21: 3.19 | B21: ='Control Report'!$C$3 -> xxx | C21: ='Control Report'!$C$2 -> Company xxx | G21: < NA > | J21: Not started
A22: 3.20 | B22: ='Control Report'!$C$3 -> xxx | C22: ='Control Report'!$C$2 -> Company xxx | G22: < NA > | J22: Not started
... A32: 3.30 | B32: ='Control Report'!$C$3 -> xxx | C32: ='Control Report'!$C$2 -> Company xxx | G32: < NA > | J32: Not started

Sheet 4 External Options
B1: External Options
A2: Pos | B2: Company ID | C2: Company name | D2: Option | E2: Responsible | F2: Planned start | G2: Planned finished | H2: Test OK | I2: Date ready | J2: =SUM(J3:J9) -> #REF! | K2: =SUM(K3:K9) -> #REF! | L2: Comments
A3: 4.01 | B3: ='Control Report'!$C$3 -> xxx | C3: ='Control Report'!$C$2 -> Company xxx | E3: < NA > | H3: Not started | J3: =IF(#REF!="Ja",1,0) -> #REF! | K3: =IF(AND(J3=1,H3=#REF!),1,0) -> #REF!
A4: 4.02 | B4: ='Control Report'!$C$3 -> xxx | C4: ='Control Report'!$C$2 -> Company xxx | E4: < NA > | H4: Not started | J4: =IF(#REF!="Ja",1,0) -> #REF! | K4: =IF(AND(J4=1,H4=#REF!),1,0) -> #REF!
A5: 4.03 | B5: ='Control Report'!$C$3 -> xxx | C5: ='Control Report'!$C$2 -> Company xxx | E5: < NA > | H5: Not started | J5: =IF(#REF!="Ja",1,0) -> #REF! | K5: =IF(AND(J5=1,H5=#REF!),1,0) -> #REF!
A6: 4.04 | B6: ='Control Report'!$C$3 -> xxx | C6: ='Control Report'!$C$2 -> Company xxx | E6: < NA > | H6: Not started | J6: =IF(#REF!="Ja",1,0) -> #REF! | K6: =IF(AND(J6=1,H6=#REF!),1,0) -> #REF!
A7: 4.05 | B7: ='Control Report'!$C$3 -> xxx | C7: ='Control Report'!$C$2 -> Company xxx | E7: < NA > | H7: Not started | J7: =IF(#REF!="Ja",1,0) -> #REF! | K7: =IF(AND(J7=1,H7=#REF!),1,0) -> #REF!
A8: 4.06 | B8: ='Control Report'!$C$3 -> xxx | C8: ='Control Report'!$C$2 -> Company xxx | E8: < NA > | H8: Not started | J8: =IF(#REF!="Ja",1,0) -> #REF! | K8: =IF(AND(J8=1,H8=#REF!),1,0) -> #REF!
A9: 4.07 | B9: ='Control Report'!$C$3 -> xxx | C9: ='Control Report'!$C$2 -> Company xxx | E9: < NA > | H9: Not started | J9: =IF(#REF!="Ja",1,0) -> #REF! | K9: =IF(AND(J9=1,H9=#REF!),1,0) -> #REF!
A10: 4.08 | B10: ='Control Report'!$C$3 -> xxx | C10: ='Control Report'!$C$2 -> Company xxx | E10: < NA > | H10: Not started | J10: =IF(#REF!="Ja",1,0) -> #REF! | K10: =IF(AND(J10=1,H10=#REF!),1,0) -> #REF!
A11: 4.09 | B11: ='Control Report'!$C$3 -> xxx | C11: ='Control Report'!$C$2 -> Company xxx | E11: < NA > | H11: Not started
A12: 4.10 | B12: ='Control Report'!$C$3 -> xxx | C12: ='Control Report'!$C$2 -> Company xxx | E12: < NA > | H12: Not started
A13: 4.11 | B13: ='Control Report'!$C$3 -> xxx | C13: ='Control Report'!$C$2 -> Company xxx | E13: < NA > | H13: Not started
A14: 4.12 | B14: ='Control Report'!$C$3 -> xxx | C14: ='Control Report'!$C$2 -> Company xxx | E14: < NA > | H14: Not started
A15: 4.13 | B15: ='Control Report'!$C$3 -> xxx | C15: ='Control Report'!$C$2 -> Company xxx | E15: < NA > | H15: Not started
A16: 4.14 | B16: ='Control Report'!$C$3 -> xxx | C16: ='Control Report'!$C$2 -> Company xxx | E16: < NA > | H16: Not started
A17: 4.15 | B17: ='Control Report'!$C$3 -> xxx | C17: ='Control Report'!$C$2 -> Company xxx | E17: < NA > | H17: Not started
A18: 4.16 | B18: ='Control Report'!$C$3 -> xxx | C18: ='Control Report'!$C$2 -> Company xxx | E18: < NA > | H18: Not started
A19: 4.17 | B19: ='Control Report'!$C$3 -> xxx | C19: ='Control Report'!$C$2 -> Company xxx | E19: < NA > | H19: Not started
A20: 4.18 | B20: ='Control Report'!$C$3 -> xxx | C20: ='Control Report'!$C$2 -> Company xxx | E20: < NA > | H20: Not started
A21: 4.19 | B21: ='Control Report'!$C$3 -> xxx | C21: ='Control Report'!$C$2 -> Company xxx | E21: < NA > | H21: Not started
A22: 4.20 | B22: ='Control Report'!$C$3 -> xxx | C22: ='Control Report'!$C$2 -> Company xxx | E22: < NA > | H22: Not started
... A32: 4.30 | B32: ='Control Report'!$C$3 -> xxx | C32: ='Control Report'!$C$2 -> Company xxx | E32: < NA > | H32: Not started

Sheet 5 External Adaptations
B1: External Adaptions
A2: Pos | B2: Company ID | C2: Company name | D2: Adaption number | E2: Adaption name | F2: Responsible | G2: Planned start | H2: Planned finished | I2: Test OK | J2: Date ready | K2: =SUM(K3:K41) -> #REF! | L2: =SUM(L3:L41) -> #REF! | M2: Comments
A3: 5.01 | B3: ='Control Report'!$C$3 -> xxx | C3: ='Control Report'!$C$2 -> Company xxx | F3: < NA > | I3: Not started | K3: =IF(#REF!="Ja",1,0) -> #REF! | L3: =IF(AND(K3=1,I3=#REF!),1,0) -> #REF!
A4: 5.02 | B4: ='Control Report'!$C$3 -> xxx | C4: ='Control Report'!$C$2 -> Company xxx | F4: < NA > | I4: Not started | K4: =IF(#REF!="Ja",1,0) -> #REF! | L4: =IF(AND(K4=1,I4=#REF!),1,0) -> #REF!
A5: 5.03 | B5: ='Control Report'!$C$3 -> xxx | C5: ='Control Report'!$C$2 -> Company xxx | F5: < NA > | I5: Not started | K5: =IF(#REF!="Ja",1,0) -> #REF! | L5: =IF(AND(K5=1,I5=#REF!),1,0) -> #REF!
A6: 5.04 | B6: ='Control Report'!$C$3 -> xxx | C6: ='Control Report'!$C$2 -> Company xxx | F6: < NA > | I6: Not started | K6: =IF(#REF!="Ja",1,0) -> #REF! | L6: =IF(AND(K6=1,I6=#REF!),1,0) -> #REF!
A7: 5.05 | B7: ='Control Report'!$C$3 -> xxx | C7: ='Control Report'!$C$2 -> Company xxx | F7: < NA > | I7: Not started | K7: =IF(#REF!="Ja",1,0) -> #REF! | L7: =IF(AND(K7=1,I7=#REF!),1,0) -> #REF!
A8: 5.06 | B8: ='Control Report'!$C$3 -> xxx | C8: ='Control Report'!$C$2 -> Company xxx | F8: < NA > | I8: Not started | K8: =IF(#REF!="Ja",1,0) -> #REF! | L8: =IF(AND(K8=1,I8=#REF!),1,0) -> #REF!
A9: 5.07 | B9: ='Control Report'!$C$3 -> xxx | C9: ='Control Report'!$C$2 -> Company xxx | F9: < NA > | I9: Not started | K9: =IF(#REF!="Ja",1,0) -> #REF! | L9: =IF(AND(K9=1,I9=#REF!),1,0) -> #REF!
A10: 5.08 | B10: ='Control Report'!$C$3 -> xxx | C10: ='Control Report'!$C$2 -> Company xxx | F10: < NA > | I10: Not started
A11: 5.09 | B11: ='Control Report'!$C$3 -> xxx | C11: ='Control Report'!$C$2 -> Company xxx | F11: < NA > | I11: Not started
A12: 5.10 | B12: ='Control Report'!$C$3 -> xxx | C12: ='Control Report'!$C$2 -> Company xxx | F12: < NA > | I12: Not started
A13: 5.11 | B13: ='Control Report'!$C$3 -> xxx | C13: ='Control Report'!$C$2 -> Company xxx | F13: < NA > | I13: Not started
A14: 5.12 | B14: ='Control Report'!$C$3 -> xxx | C14: ='Control Report'!$C$2 -> Company xxx | F14: < NA > | I14: Not started
A15: 5.13 | B15: ='Control Report'!$C$3 -> xxx | C15: ='Control Report'!$C$2 -> Company xxx | F15: < NA > | I15: Not started
A16: 5.14 | B16: ='Control Report'!$C$3 -> xxx | C16: ='Control Report'!$C$2 -> Company xxx | F16: < NA > | I16: Not started
A17: 5.15 | B17: ='Control Report'!$C$3 -> xxx | C17: ='Control Report'!$C$2 -> Company xxx | F17: < NA > | I17: Not started
A18: 5.16 | B18: ='Control Report'!$C$3 -> xxx | C18: ='Control Report'!$C$2 -> Company xxx | F18: < NA > | I18: Not started
A19: 5.17 | B19: ='Control Report'!$C$3 -> xxx | C19: ='Control Report'!$C$2 -> Company xxx | F19: < NA > | I19: Not started
A20: 5.18 | B20: ='Control Report'!$C$3 -> xxx | C20: ='Control Report'!$C$2 -> Company xxx | F20: < NA > | I20: Not started
A21: 5.19 | B21: ='Control Report'!$C$3 -> xxx | C21: ='Control Report'!$C$2 -> Company xxx | F21: < NA > | I21: Not started
... A32: 5.30 | B32: ='Control Report'!$C$3 -> xxx | C32: ='Control Report'!$C$2 -> Company xxx | F32: < NA > | I32: Not started

Sheet 6 Costumized Reports & Document
D1: Customized Reports & Doccuments
A2: Pos | B2: Company ID | C2: Company name | D2: Adaption number | E2: Adaption name | F2: Responsible | G2: Planned start | H2: Planned finished | I2: Test OK | J2: Date ready | K2: =SUM(K3:K67) -> #REF! | L2: =SUM(L3:L67) -> #REF! | M2: Comments
A3: 6.01 | B3: ='Control Report'!$C$3 -> xxx | C3: ='Control Report'!$C$2 -> Company xxx | F3: < NA > | I3: Not started | K3: =IF(#REF!="Ja",1,0) -> #REF! | L3: =IF(AND(K3=1,I3=#REF!),1,0) -> #REF!
A4: 6.02 | B4: ='Control Report'!$C$3 -> xxx | C4: ='Control Report'!$C$2 -> Company xxx | F4: < NA > | I4: Not started | K4: =IF(#REF!="Ja",1,0) -> #REF! | L4: =IF(AND(K4=1,I4=#REF!),1,0) -> #REF!
A5: 6.03 | B5: ='Control Report'!$C$3 -> xxx | C5: ='Control Report'!$C$2 -> Company xxx | F5: < NA > | I5: Not started | K5: =IF(#REF!="Ja",1,0) -> #REF! | L5: =IF(AND(K5=1,I5=#REF!),1,0) -> #REF!
A6: 6.04 | B6: ='Control Report'!$C$3 -> xxx | C6: ='Control Report'!$C$2 -> Company xxx | F6: < NA > | I6: Not started | K6: =IF(#REF!="Ja",1,0) -> #REF! | L6: =IF(AND(K6=1,I6=#REF!),1,0) -> #REF!
A7: 6.05 | B7: ='Control Report'!$C$3 -> xxx | C7: ='Control Report'!$C$2 -> Company xxx | F7: < NA > | I7: Not started | K7: =IF(#REF!="Ja",1,0) -> #REF! | L7: =IF(AND(K7=1,I7=#REF!),1,0) -> #REF!
A8: 6.06 | B8: ='Control Report'!$C$3 -> xxx | C8: ='Control Report'!$C$2 -> Company xxx | F8: < NA > | I8: Not started | K8: =IF(#REF!="Ja",1,0) -> #REF! | L8: =IF(AND(K8=1,I8=#REF!),1,0) -> #REF!
A9: 6.07 | B9: ='Control Report'!$C$3 -> xxx | C9: ='Control Report'!$C$2 -> Company xxx | F9: < NA > | I9: Not started | K9: =IF(#REF!="Ja",1,0) -> #REF! | L9: =IF(AND(K9=1,I9=#REF!),1,0) -> #REF!
A10: 6.08 | B10: ='Control Report'!$C$3 -> xxx | C10: ='Control Report'!$C$2 -> Company xxx | F10: < NA > | I10: Not started | K10: =IF(#REF!="Ja",1,0) -> #REF! | L10: =IF(AND(K10=1,I10=#REF!),1,0) -> #REF!
A11: 6.09 | B11: ='Control Report'!$C$3 -> xxx | C11: ='Control Report'!$C$2 -> Company xxx | F11: < NA > | I11: Not started | K11: =IF(#REF!="Ja",1,0) -> #REF! | L11: =IF(AND(K11=1,I11=#REF!),1,0) -> #REF!
A12: 6.10 | B12: ='Control Report'!$C$3 -> xxx | C12: ='Control Report'!$C$2 -> Company xxx | F12: < NA > | I12: Not started | K12: =IF(#REF!="Ja",1,0) -> #REF! | L12: =IF(AND(K12=1,I12=#REF!),1,0) -> #REF!
A13: 6.11 | B13: ='Control Report'!$C$3 -> xxx | C13: ='Control Report'!$C$2 -> Company xxx | F13: < NA > | I13: Not started | K13: =IF(#REF!="Ja",1,0) -> #REF! | L13: =IF(AND(K13=1,I13=#REF!),1,0) -> #REF!
A14: 6.12 | B14: ='Control Report'!$C$3 -> xxx | C14: ='Control Report'!$C$2 -> Company xxx | F14: < NA > | I14: Not started | K14: =IF(#REF!="Ja",1,0) -> #REF! | L14: =IF(AND(K14=1,I14=#REF!),1,0) -> #REF!
A15: 6.13 | B15: ='Control Report'!$C$3 -> xxx | C15: ='Control Report'!$C$2 -> Company xxx | F15: < NA > | I15: Not started | K15: =IF(#REF!="Ja",1,0) -> #REF! | L15: =IF(AND(K15=1,I15=#REF!),1,0) -> #REF!
A16: 6.14 | B16: ='Control Report'!$C$3 -> xxx | C16: ='Control Report'!$C$2 -> Company xxx | F16: < NA > | I16: Not started
A17: 6.15 | B17: ='Control Report'!$C$3 -> xxx | C17: ='Control Report'!$C$2 -> Company xxx | F17: < NA > | I17: Not started
A18: 6.16 | B18: ='Control Report'!$C$3 -> xxx | C18: ='Control Report'!$C$2 -> Company xxx | F18: < NA > | I18: Not started
A19: 6.17 | B19: ='Control Report'!$C$3 -> xxx | C19: ='Control Report'!$C$2 -> Company xxx | F19: < NA > | I19: Not started
A20: 6.18 | B20: ='Control Report'!$C$3 -> xxx | C20: ='Control Report'!$C$2 -> Company xxx | F20: < NA > | I20: Not started
A21: 6.19 | B21: ='Control Report'!$C$3 -> xxx | C21: ='Control Report'!$C$2 -> Company xxx | F21: < NA > | I21: Not started
A22: 6.20 | B22: ='Control Report'!$C$3 -> xxx | C22: ='Control Report'!$C$2 -> Company xxx | F22: < NA > | I22: Not started
A23: 6.21 | B23: ='Control Report'!$C$3 -> xxx | C23: ='Control Report'!$C$2 -> Company xxx | F23: < NA > | I23: Not started
A24: 6.22 | B24: ='Control Report'!$C$3 -> xxx | C24: ='Control Report'!$C$2 -> Company xxx | F24: < NA > | I24: Not started
A25: 6.23 | B25: ='Control Report'!$C$3 -> xxx | C25: ='Control Report'!$C$2 -> Company xxx | F25: < NA > | I25: Not started
A26: 6.24 | B26: ='Control Report'!$C$3 -> xxx | C26: ='Control Report'!$C$2 -> Company xxx | F26: < NA > | I26: Not started
A27: 6.25 | B27: ='Control Report'!$C$3 -> xxx | C27: ='Control Report'!$C$2 -> Company xxx | F27: < NA > | I27: Not started
... A32: 6.30 | B32: ='Control Report'!$C$3 -> xxx | C32: ='Control Report'!$C$2 -> Company xxx | F32: < NA > | I32: Not started

Sheet List
A1: Status
A2: Finished | D2: Responsible
A3: In progress | D3: < NA >
A4: Risk | D4: < TBD >
A5: Not started
A6: Investigation
A7: Delayed

Sheet Data_Gantt
A1: Source | B1: id | C1: namn | D1: Activity | E1: Responsible | F1: Start date | G1: End date | H1: Status
A2: ='1 Checkpoints'!A4 -> 1.01 | D2: ='1 Checkpoints'!B4 -> Schedule a project kick-off with relevant parties | E2: ='1 Checkpoints'!D4 -> < NA > | F2: ='1 Checkpoints'!E4 -> 0 | G2: ='1 Checkpoints'!F4 -> 0 | H2: ='1 Checkpoints'!G4 -> Not started | I2: =IF(E2="< NA >",0,1) -> 0 | J2: =IF(H2="Finished",1,0) -> 0
A3: ='1 Checkpoints'!A5 -> 1.02 | D3: ='1 Checkpoints'!B5 -> Start the program Monitor.PostgreSQL.Assistant | E3: ='1 Checkpoints'!D5 -> < NA > | F3: ='1 Checkpoints'!E5 -> 0 | G3: ='1 Checkpoints'!F5 -> 0 | H3: ='1 Checkpoints'!G5 -> Not started | I3: =IF(E3="< NA >",0,1) -> 0 | J3: =IF(H3="Finished",1,0) -> 0
A4: ='1 Checkpoints'!A6 -> 1.03 | D4: ='1 Checkpoints'!B6 -> Project start | E4: ='1 Checkpoints'!D6 -> < NA > | F4: ='1 Checkpoints'!E6 -> 0 | G4: ='1 Checkpoints'!F6 -> 0 | H4: ='1 Checkpoints'!G6 -> Not started | I4: =IF(E4="< NA >",0,1) -> 0 | J4: =IF(H4="Finished",1,0) -> 0
A5: ='1 Checkpoints'!A7 -> 1.04 | D5: ='1 Checkpoints'!B7 -> Review the PostgreSQL migration guide | E5: ='1 Checkpoints'!D7 -> < NA > | F5: ='1 Checkpoints'!E7 -> 0 | G5: ='1 Checkpoints'!F7 -> 0 | H5: ='1 Checkpoints'!G7 -> Not started | I5: =IF(E5="< NA >",0,1) -> 0 | J5: =IF(H5="Finished",1,0) -> 0
A6: ='1 Checkpoints'!A8 -> 1.05 | D6: ='1 Checkpoints'!B8 -> Ensure PostgreSQL is installed | E6: ='1 Checkpoints'!D8 -> < NA > | F6: ='1 Checkpoints'!E8 -> 0 | G6: ='1 Checkpoints'!F8 -> 0 | H6: ='1 Checkpoints'!G8 -> Not started | I6: =IF(E6="< NA >",0,1) -> 0 | J6: =IF(H6="Finished",1,0) -> 0
A7: ='1 Checkpoints'!A9 -> 1.06 | D7: ='1 Checkpoints'!B9 -> If Preparation status is not ok, proceed to tab 2-6 | E7: ='1 Checkpoints'!D9 -> < NA > | F7: ='1 Checkpoints'!E9 -> 0 | G7: ='1 Checkpoints'!F9 -> 0 | H7: ='1 Checkpoints'!G9 -> Not started | I7: =IF(E7="< NA >",0,1) -> 0 | J7: =IF(H7="Finished",1,0) -> 0
A8: ='1 Checkpoints'!A10 -> 1.07 | D8: ='1 Checkpoints'!B10 -> Preparation status ok | E8: ='1 Checkpoints'!D10 -> < NA > | F8: ='1 Checkpoints'!E10 -> 0 | G8: ='1 Checkpoints'!F10 -> 0 | H8: ='1 Checkpoints'!G10 -> Not started | I8: =IF(E8="< NA >",0,1) -> 0 | J8: =IF(H8="Finished",1,0) -> 0
A9: ='1 Checkpoints'!A11 -> 1.08 | D9: ='1 Checkpoints'!B11 -> Consider exporting BLOB data before migration | E9: ='1 Checkpoints'!D11 -> < NA > | F9: ='1 Checkpoints'!E11 -> 0 | G9: ='1 Checkpoints'!F11 -> 0 | H9: ='1 Checkpoints'!G11 -> Not started | I9: =IF(E9="< NA >",0,1) -> 0 | J9: =IF(H9="Finished",1,0) -> 0
A10: ='1 Checkpoints'!A12 -> 1.09 | D10: ='1 Checkpoints'!B12 -> Plan migration of test company | E10: ='1 Checkpoints'!D12 -> < NA > | F10: ='1 Checkpoints'!E12 -> 0 | G10: ='1 Checkpoints'!F12 -> 0 | H10: ='1 Checkpoints'!G12 -> Not started | I10: =IF(E10="< NA >",0,1) -> 0 | J10: =IF(H10="Finished",1,0) -> 0
A11: ='1 Checkpoints'!A13 -> 1.10 | D11: ='1 Checkpoints'!B13 -> Perform migration of test company | E11: ='1 Checkpoints'!D13 -> < NA > | F11: ='1 Checkpoints'!E13 -> 0 | G11: ='1 Checkpoints'!F13 -> 0 | H11: ='1 Checkpoints'!G13 -> Not started | I11: =IF(E11="< NA >",0,1) -> 0 | J11: =IF(H11="Finished",1,0) -> 0
A12: ='1 Checkpoints'!A14 -> 1.11 | D12: ='1 Checkpoints'!B14 -> Test migration approval | E12: ='1 Checkpoints'!D14 -> < NA > | F12: ='1 Checkpoints'!E14 -> 0 | G12: ='1 Checkpoints'!F14 -> 0 | H12: ='1 Checkpoints'!G14 -> Not started | I12: =IF(E12="< NA >",0,1) -> 0 | J12: =IF(H12="Finished",1,0) -> 0
A13: ='1 Checkpoints'!A15 -> 1.12 | D13: ='1 Checkpoints'!B15 -> Plan for migration of production/live company | E13: ='1 Checkpoints'!D15 -> < NA > | F13: ='1 Checkpoints'!E15 -> 0 | G13: ='1 Checkpoints'!F15 -> 0 | H13: ='1 Checkpoints'!G15 -> Not started | I13: =IF(E13="< NA >",0,1) -> 0 | J13: =IF(H13="Finished",1,0) -> 0
... A31: ='1 Checkpoints'!A33 -> 1.30 | D31: ='1 Checkpoints'!B33 -> 0 | E31: ='1 Checkpoints'!D33 -> < NA > | F31: ='1 Checkpoints'!E33 -> 0 | G31: ='1 Checkpoints'!F33 -> 0 | H31: ='1 Checkpoints'!G33 -> 0 | I31: =IF(E31="< NA >",0,1) -> 0 | J31: =IF(H31="Finished",1,0) -> 0
A32: ='2 Custom solutions'!A3 -> 2.01 | B32: ='2 Custom solutions'!B3 -> xxx | C32: ='2 Custom solutions'!C3 -> Company xxx | D32: ='2 Custom solutions'!D3 -> 0 | E32: ='2 Custom solutions'!G3 -> < NA > | F32: ='2 Custom solutions'!H3 -> 0 | G32: ='2 Custom solutions'!I3 -> 0 | H32: ='2 Custom solutions'!J3 -> Not started | I32: =IF(E32="< NA >",0,1) -> 0 | J32: =IF(H32="Finished",1,0) -> 0
A33: ='2 Custom solutions'!A4 -> 2.02 | B33: ='2 Custom solutions'!B4 -> xxx | C33: ='2 Custom solutions'!C4 -> Company xxx | D33: ='2 Custom solutions'!D4 -> 0 | E33: ='2 Custom solutions'!G4 -> < NA > | F33: ='2 Custom solutions'!H4 -> 0 | G33: ='2 Custom solutions'!I4 -> 0 | H33: ='2 Custom solutions'!J4 -> Not started | I33: =IF(E33="< NA >",0,1) -> 0 | J33: =IF(H33="Finished",1,0) -> 0
A34: ='2 Custom solutions'!A5 -> 2.03 | B34: ='2 Custom solutions'!B5 -> xxx | C34: ='2 Custom solutions'!C5 -> Company xxx | D34: ='2 Custom solutions'!D5 -> 0 | E34: ='2 Custom solutions'!G5 -> < NA > | F34: ='2 Custom solutions'!H5 -> 0 | G34: ='2 Custom solutions'!I5 -> 0 | H34: ='2 Custom solutions'!J5 -> Not started | I34: =IF(E34="< NA >",0,1) -> 0 | J34: =IF(H34="Finished",1,0) -> 0
A35: ='2 Custom solutions'!A6 -> 2.04 | B35: ='2 Custom solutions'!B6 -> xxx | C35: ='2 Custom solutions'!C6 -> Company xxx | D35: ='2 Custom solutions'!D6 -> 0 | E35: ='2 Custom solutions'!G6 -> < NA > | F35: ='2 Custom solutions'!H6 -> 0 | G35: ='2 Custom solutions'!I6 -> 0 | H35: ='2 Custom solutions'!J6 -> Not started | I35: =IF(E35="< NA >",0,1) -> 0 | J35: =IF(H35="Finished",1,0) -> 0
A36: ='2 Custom solutions'!A7 -> 2.05 | B36: ='2 Custom solutions'!B7 -> xxx | C36: ='2 Custom solutions'!C7 -> Company xxx | D36: ='2 Custom solutions'!D7 -> 0 | E36: ='2 Custom solutions'!G7 -> < NA > | F36: ='2 Custom solutions'!H7 -> 0 | G36: ='2 Custom solutions'!I7 -> 0 | H36: ='2 Custom solutions'!J7 -> Not started | I36: =IF(E36="< NA >",0,1) -> 0 | J36: =IF(H36="Finished",1,0) -> 0
A37: ='2 Custom solutions'!A8 -> 2.06 | B37: ='2 Custom solutions'!B8 -> xxx | C37: ='2 Custom solutions'!C8 -> Company xxx | D37: ='2 Custom solutions'!D8 -> 0 | E37: ='2 Custom solutions'!G8 -> < NA > | F37: ='2 Custom solutions'!H8 -> 0 | G37: ='2 Custom solutions'!I8 -> 0 | H37: ='2 Custom solutions'!J8 -> Not started | I37: =IF(E37="< NA >",0,1) -> 0 | J37: =IF(H37="Finished",1,0) -> 0
A38: ='2 Custom solutions'!A9 -> 2.07 | B38: ='2 Custom solutions'!B9 -> xxx | C38: ='2 Custom solutions'!C9 -> Company xxx | D38: ='2 Custom solutions'!D9 -> 0 | E38: ='2 Custom solutions'!G9 -> < NA > | F38: ='2 Custom solutions'!H9 -> 0 | G38: ='2 Custom solutions'!I9 -> 0 | H38: ='2 Custom solutions'!J9 -> Not started | I38: =IF(E38="< NA >",0,1) -> 0 | J38: =IF(H38="Finished",1,0) -> 0
A39: ='2 Custom solutions'!A10 -> 2.08 | B39: ='2 Custom solutions'!B10 -> xxx | C39: ='2 Custom solutions'!C10 -> Company xxx | D39: ='2 Custom solutions'!D10 -> 0 | E39: ='2 Custom solutions'!G10 -> < NA > | F39: ='2 Custom solutions'!H10 -> 0 | G39: ='2 Custom solutions'!I10 -> 0 | H39: ='2 Custom solutions'!J10 -> Not started | I39: =IF(E39="< NA >",0,1) -> 0 | J39: =IF(H39="Finished",1,0) -> 0
A40: ='2 Custom solutions'!A11 -> 2.09 | B40: ='2 Custom solutions'!B11 -> xxx | C40: ='2 Custom solutions'!C11 -> Company xxx | D40: ='2 Custom solutions'!D11 -> 0 | E40: ='2 Custom solutions'!G11 -> < NA > | F40: ='2 Custom solutions'!H11 -> 0 | G40: ='2 Custom solutions'!I11 -> 0 | H40: ='2 Custom solutions'!J11 -> Not started | I40: =IF(E40="< NA >",0,1) -> 0 | J40: =IF(H40="Finished",1,0) -> 0
A41: ='2 Custom solutions'!A12 -> 2.10 | B41: ='2 Custom solutions'!B12 -> xxx | C41: ='2 Custom solutions'!C12 -> Company xxx | D41: ='2 Custom solutions'!D12 -> 0 | E41: ='2 Custom solutions'!G12 -> < NA > | F41: ='2 Custom solutions'!H12 -> 0 | G41: ='2 Custom solutions'!I12 -> 0 | H41: ='2 Custom solutions'!J12 -> Not started | I41: =IF(E41="< NA >",0,1) -> 0 | J41: =IF(H41="Finished",1,0) -> 0
A42: ='2 Custom solutions'!A13 -> 2.11 | B42: ='2 Custom solutions'!B13 -> xxx | C42: ='2 Custom solutions'!C13 -> Company xxx | D42: ='2 Custom solutions'!D13 -> 0 | E42: ='2 Custom solutions'!G13 -> < NA > | F42: ='2 Custom solutions'!H13 -> 0 | G42: ='2 Custom solutions'!I13 -> 0 | H42: ='2 Custom solutions'!J13 -> Not started | I42: =IF(E42="< NA >",0,1) -> 0 | J42: =IF(H42="Finished",1,0) -> 0
A43: ='2 Custom solutions'!A14 -> 2.12 | B43: ='2 Custom solutions'!B14 -> xxx | C43: ='2 Custom solutions'!C14 -> Company xxx | D43: ='2 Custom solutions'!D14 -> 0 | E43: ='2 Custom solutions'!G14 -> < NA > | F43: ='2 Custom solutions'!H14 -> 0 | G43: ='2 Custom solutions'!I14 -> 0 | H43: ='2 Custom solutions'!J14 -> Not started | I43: =IF(E43="< NA >",0,1) -> 0 | J43: =IF(H43="Finished",1,0) -> 0
... A61: ='2 Custom solutions'!A32 -> 2.30 | B61: ='2 Custom solutions'!B32 -> xxx | C61: ='2 Custom solutions'!C32 -> Company xxx | D61: ='2 Custom solutions'!D32 -> 0 | E61: ='2 Custom solutions'!G32 -> < NA > | F61: ='2 Custom solutions'!H32 -> 0 | G61: ='2 Custom solutions'!I32 -> 0 | H61: ='2 Custom solutions'!J32 -> Not started | I61: =IF(E61="< NA >",0,1) -> 0 | J61: =IF(H61="Finished",1,0) -> 0
A62: ='3 Business Intelligence'!A3 -> 3.01 | B62: ='3 Business Intelligence'!B3 -> xxx | C62: ='3 Business Intelligence'!C3 -> Company xxx | D62: ='3 Business Intelligence'!D3 -> 0 | E62: ='3 Business Intelligence'!G3 -> < NA > | F62: ='3 Business Intelligence'!H3 -> 0 | G62: ='3 Business Intelligence'!I3 -> 0 | H62: ='3 Business Intelligence'!J3 -> Not started | I62: =IF(E62="< NA >",0,1) -> 0 | J62: =IF(H62="Finished",1,0) -> 0
A63: ='3 Business Intelligence'!A4 -> 3.02 | B63: ='3 Business Intelligence'!B4 -> xxx | C63: ='3 Business Intelligence'!C4 -> Company xxx | D63: ='3 Business Intelligence'!D4 -> 0 | E63: ='3 Business Intelligence'!G4 -> < NA > | F63: ='3 Business Intelligence'!H4 -> 0 | G63: ='3 Business Intelligence'!I4 -> 0 | H63: ='3 Business Intelligence'!J4 -> Not started | I63: =IF(E63="< NA >",0,1) -> 0 | J63: =IF(H63="Finished",1,0) -> 0
A64: ='3 Business Intelligence'!A5 -> 3.03 | B64: ='3 Business Intelligence'!B5 -> xxx | C64: ='3 Business Intelligence'!C5 -> Company xxx | D64: ='3 Business Intelligence'!D5 -> 0 | E64: ='3 Business Intelligence'!G5 -> < NA > | F64: ='3 Business Intelligence'!H5 -> 0 | G64: ='3 Business Intelligence'!I5 -> 0 | H64: ='3 Business Intelligence'!J5 -> Not started | I64: =IF(E64="< NA >",0,1) -> 0 | J64: =IF(H64="Finished",1,0) -> 0
A65: ='3 Business Intelligence'!A6 -> 3.04 | B65: ='3 Business Intelligence'!B6 -> xxx | C65: ='3 Business Intelligence'!C6 -> Company xxx | D65: ='3 Business Intelligence'!D6 -> 0 | E65: ='3 Business Intelligence'!G6 -> < NA > | F65: ='3 Business Intelligence'!H6 -> 0 | G65: ='3 Business Intelligence'!I6 -> 0 | H65: ='3 Business Intelligence'!J6 -> Not started | I65: =IF(E65="< NA >",0,1) -> 0 | J65: =IF(H65="Finished",1,0) -> 0
A66: ='3 Business Intelligence'!A7 -> 3.05 | B66: ='3 Business Intelligence'!B7 -> xxx | C66: ='3 Business Intelligence'!C7 -> Company xxx | D66: ='3 Business Intelligence'!D7 -> 0 | E66: ='3 Business Intelligence'!G7 -> < NA > | F66: ='3 Business Intelligence'!H7 -> 0 | G66: ='3 Business Intelligence'!I7 -> 0 | H66: ='3 Business Intelligence'!J7 -> Not started | I66: =IF(E66="< NA >",0,1) -> 0 | J66: =IF(H66="Finished",1,0) -> 0
A67: ='3 Business Intelligence'!A8 -> 3.06 | B67: ='3 Business Intelligence'!B8 -> xxx | C67: ='3 Business Intelligence'!C8 -> Company xxx | D67: ='3 Business Intelligence'!D8 -> 0 | E67: ='3 Business Intelligence'!G8 -> < NA > | F67: ='3 Business Intelligence'!H8 -> 0 | G67: ='3 Business Intelligence'!I8 -> 0 | H67: ='3 Business Intelligence'!J8 -> Not started | I67: =IF(E67="< NA >",0,1) -> 0 | J67: =IF(H67="Finished",1,0) -> 0
A68: ='3 Business Intelligence'!A9 -> 3.07 | B68: ='3 Business Intelligence'!B9 -> xxx | C68: ='3 Business Intelligence'!C9 -> Company xxx | D68: ='3 Business Intelligence'!D9 -> 0 | E68: ='3 Business Intelligence'!G9 -> < NA > | F68: ='3 Business Intelligence'!H9 -> 0 | G68: ='3 Business Intelligence'!I9 -> 0 | H68: ='3 Business Intelligence'!J9 -> Not started | I68: =IF(E68="< NA >",0,1) -> 0 | J68: =IF(H68="Finished",1,0) -> 0
A69: ='3 Business Intelligence'!A10 -> 3.08 | B69: ='3 Business Intelligence'!B10 -> xxx | C69: ='3 Business Intelligence'!C10 -> Company xxx | D69: ='3 Business Intelligence'!D10 -> 0 | E69: ='3 Business Intelligence'!G10 -> < NA > | F69: ='3 Business Intelligence'!H10 -> 0 | G69: ='3 Business Intelligence'!I10 -> 0 | H69: ='3 Business Intelligence'!J10 -> Not started | I69: =IF(E69="< NA >",0,1) -> 0 | J69: =IF(H69="Finished",1,0) -> 0
A70: ='3 Business Intelligence'!A11 -> 3.09 | B70: ='3 Business Intelligence'!B11 -> xxx | C70: ='3 Business Intelligence'!C11 -> Company xxx | D70: ='3 Business Intelligence'!D11 -> 0 | E70: ='3 Business Intelligence'!G11 -> < NA > | F70: ='3 Business Intelligence'!H11 -> 0 | G70: ='3 Business Intelligence'!I11 -> 0 | H70: ='3 Business Intelligence'!J11 -> Not started | I70: =IF(E70="< NA >",0,1) -> 0 | J70: =IF(H70="Finished",1,0) -> 0
A71: ='3 Business Intelligence'!A12 -> 3.10 | B71: ='3 Business Intelligence'!B12 -> xxx | C71: ='3 Business Intelligence'!C12 -> Company xxx | D71: ='3 Business Intelligence'!D12 -> 0 | E71: ='3 Business Intelligence'!G12 -> < NA > | F71: ='3 Business Intelligence'!H12 -> 0 | G71: ='3 Business Intelligence'!I12 -> 0 | H71: ='3 Business Intelligence'!J12 -> Not started | I71: =IF(E71="< NA >",0,1) -> 0 | J71: =IF(H71="Finished",1,0) -> 0
A72: ='3 Business Intelligence'!A13 -> 3.11 | B72: ='3 Business Intelligence'!B13 -> xxx | C72: ='3 Business Intelligence'!C13 -> Company xxx | D72: ='3 Business Intelligence'!D13 -> 0 | E72: ='3 Business Intelligence'!G13 -> < NA > | F72: ='3 Business Intelligence'!H13 -> 0 | G72: ='3 Business Intelligence'!I13 -> 0 | H72: ='3 Business Intelligence'!J13 -> Not started | I72: =IF(E72="< NA >",0,1) -> 0 | J72: =IF(H72="Finished",1,0) -> 0
A73: ='3 Business Intelligence'!A14 -> 3.12 | B73: ='3 Business Intelligence'!B14 -> xxx | C73: ='3 Business Intelligence'!C14 -> Company xxx | D73: ='3 Business Intelligence'!D14 -> 0 | E73: ='3 Business Intelligence'!G14 -> < NA > | F73: ='3 Business Intelligence'!H14 -> 0 | G73: ='3 Business Intelligence'!I14 -> 0 | H73: ='3 Business Intelligence'!J14 -> Not started | I73: =IF(E73="< NA >",0,1) -> 0 | J73: =IF(H73="Finished",1,0) -> 0
... A91: ='3 Business Intelligence'!A32 -> 3.30 | B91: ='3 Business Intelligence'!B32 -> xxx | C91: ='3 Business Intelligence'!C32 -> Company xxx | D91: ='3 Business Intelligence'!D32 -> 0 | E91: ='3 Business Intelligence'!G32 -> < NA > | F91: ='3 Business Intelligence'!H32 -> 0 | G91: ='3 Business Intelligence'!I32 -> 0 | H91: ='3 Business Intelligence'!J32 -> Not started | I91: =IF(E91="< NA >",0,1) -> 0 | J91: =IF(H91="Finished",1,0) -> 0
...
